BEGIN:VCALENDAR
VERSION:2.0
PRODID:-//hacksw/handcal//NONSGML v1.0//EN
BEGIN:VEVENT
SUMMARY:Tournoi Petite Camargue
UID:3d92e39e-4f6b-449f-be7a-fa385c7500e1
DTSTART:20260515T073000Z
DTEND:20260515T163000Z
LOCATION:Localisation   
CATEGORIES:Sportif
STATUS:
URL;VALUE=URI:https://bcgr.club.ffbridge.fr/evenements/2026/05/15/tournoi-petite-camargue-2443509
END:VEVENT
END:VCALENDAR
